Workbook
Name _Hlk178938630: Hoja1!$A$1
Name _Toc215907419: Hoja1!$A$22
Name _Toc215907420: Hoja1!$A$99
Name _Toc215907421: Hoja1!$A$132
Name _Toc215907422: Hoja1!$A$162
Name _Toc215907423: Hoja1!$A$190
Name _Toc215907424: Hoja1!$A$220
Name _Toc215907427: Hoja1!$A$267
Name _Toc215907428: Hoja1!$A$315
Name _Toc215907429: Hoja1!$A$335

Sheet Resumen Web
A1: INDOCAL · Transparencia institucional
A2: Informe de gestión 2026 · corte enero-septiembre
A4: Servicios reportados | C4: Suma trimestral | E4: Nuevos clientes | G4: Diferencia de control
A5: =B18 -> 80510 | C5: =SUM(Hoja1!K90:K92) -> 80510 | E5: =Hoja1!F79 -> 49 | G5: =A5-C5 -> 0
A8: Área / laboratorio | B8: Total enero-septiembre | C8: Participación | E8: Trimestre | F8: Servicios
A9: Metrología Legal SD-RN | B9: =Hoja1!B93 -> 55123 | C9: =IFERROR(B9/$B$18,0) -> 0.68467271 | E9: Primer trimestre | F9: =Hoja1!K90 -> 25707
A10: Peritaje Santo Domingo | B10: =Hoja1!G93 -> 15220 | C10: =IFERROR(B10/$B$18,0) -> 0.18904484 | E10: Segundo trimestre | F10: =Hoja1!K91 -> 27764
A11: Peritaje Región Norte | B11: =Hoja1!C93 -> 7583 | C11: =IFERROR(B11/$B$18,0) -> 0.094187058 | E11: Tercer trimestre | F11: =Hoja1!K92 -> 27039
A12: Masa y Volumen | B12: =Hoja1!E93 -> 2382 | C12: =IFERROR(B12/$B$18,0) -> 0.029586387 | E12: Total calculado | F12: =SUM(F9:F11) -> 80510
A13: Mediciones Eléctricas | B13: =Hoja1!F93 -> 62 | C13: =IFERROR(B13/$B$18,0) -> 0.00077009067
A14: Temperatura | B14: =Hoja1!I93 -> 55 | C14: =IFERROR(B14/$B$18,0) -> 0.00068314495 | E14: Control de calidad del dato
A15: Tiempo y Frecuencia | B15: =Hoja1!D93 -> 49 | C15: =IFERROR(B15/$B$18,0) -> 0.00060862005 | E15: Control validado: el total reportado coincide con la suma trimestral (diferencia: 0 servicios).
A16: Físico Químico | B16: =Hoja1!J93 -> 27 | C16: =IFERROR(B16/$B$18,0) -> 0.00033536207
A17: Dimensional y Presión | B17: =Hoja1!H93 -> 9 | C17: =IFERROR(B17/$B$18,0) -> 0.00011178736
A18: Total por áreas | B18: =SUM(B9:B17) -> 80510 | C18: =SUM(C9:C17) -> 1
E19: Nota metodológica: los indicadores en blanco se conservan como no reportados; no se sustituyen por cero. La base Datos Abiertos contiene una fila por unidad, indicador y trimestre.

Sheet Gráficos Web
A1: INDOCAL · Gráficos de gestión 2026
A2: Corte enero-septiembre · cifras por trimestre

Sheet Datos Abiertos
A1: Año | B1: Corte | C1: Unidad | D1: Indicador | E1: Trimestre | F1: Orden_trimestre | G1: Valor | H1: Tipo_dato | I1: Fuente
A2: 2026 | B2: Enero-septiembre | C2: Nuevos clientes | D2: Laboratorio Nacional de Masa y Volumen | E2: Primer Trimestre | F2: 1 | G2: 13 | H2: Detalle | I2: Hoja1!A108:F111
A3: 2026 | B3: Enero-septiembre | C3: Nuevos clientes | D3: Laboratorio Nacional de Temperatura | E3: Primer Trimestre | F3: 1 | G3: 0 | H3: Detalle | I3: Hoja1!A108:F111
A4: 2026 | B4: Enero-septiembre | C4: Nuevos clientes | D4: Laboratorio Nacional de Mediciones Eléctricas | E4: Primer Trimestre | F4: 1 | G4: 2 | H4: Detalle | I4: Hoja1!A108:F111
A5: 2026 | B5: Enero-septiembre | C5: Nuevos clientes | D5: Laboratorio Nacional Dimensional y Presión | E5: Primer Trimestre | F5: 1 | G5: 0 | H5: Detalle | I5: Hoja1!A108:F111
A6: 2026 | B6: Enero-septiembre | C6: Nuevos clientes | D6: Total, general | E6: Primer Trimestre | F6: 1 | G6: 15 | H6: Total | I6: Hoja1!A108:F111
A7: 2026 | B7: Enero-septiembre | C7: Nuevos clientes | D7: Laboratorio Nacional de Masa y Volumen | E7: Segundo Trimestre | F7: 2 | G7: 6 | H7: Detalle | I7: Hoja1!A108:F111
A8: 2026 | B8: Enero-septiembre | C8: Nuevos clientes | D8: Laboratorio Nacional de Temperatura | E8: Segundo Trimestre | F8: 2 | G8: 2 | H8: Detalle | I8: Hoja1!A108:F111
A9: 2026 | B9: Enero-septiembre | C9: Nuevos clientes | D9: Laboratorio Nacional de Mediciones Eléctricas | E9: Segundo Trimestre | F9: 2 | G9: 3 | H9: Detalle | I9: Hoja1!A108:F111
A10: 2026 | B10: Enero-septiembre | C10: Nuevos clientes | D10: Laboratorio Nacional Dimensional y Presión | E10: Segundo Trimestre | F10: 2 | G10: 0 | H10: Detalle | I10: Hoja1!A108:F111
A11: 2026 | B11: Enero-septiembre | C11: Nuevos clientes | D11: Total, general | E11: Segundo Trimestre | F11: 2 | G11: 11 | H11: Total | I11: Hoja1!A108:F111
A12: 2026 | B12: Enero-septiembre | C12: Nuevos clientes | D12: Laboratorio Nacional de Masa y Volumen | E12: Tercer Trimestre | F12: 3 | G12: 20 | H12: Detalle | I12: Hoja1!A108:F111
A13: 2026 | B13: Enero-septiembre | C13: Nuevos clientes | D13: Laboratorio Nacional de Temperatura | E13: Tercer Trimestre | F13: 3 | G13: 0 | H13: Detalle | I13: Hoja1!A108:F111
... A74: 2026 | B74: Enero-septiembre | C74: Mediciones Eléctricas | D74: Total, de Examen de Modelo Energía Activa | E74: Primer Trimestre | F74: 1 | G74: 1 | H74: Detalle | I74: Hoja1!A181:K184
A75: 2026 | B75: Enero-septiembre | C75: Mediciones Eléctricas | D75: Total, Examen de Modelo Activa/Reactiva monofásico | E75: Primer Trimestre | F75: 1 | H75: Detalle | I75: Hoja1!A181:K184
A76: 2026 | B76: Enero-septiembre | C76: Mediciones Eléctricas | D76: Total, Examen de Modelo Trifásica | E76: Primer Trimestre | F76: 1 | G76: 5 | H76: Detalle | I76: Hoja1!A181:K184
A77: 2026 | B77: Enero-septiembre | C77: Mediciones Eléctricas | D77: Total, de Duplicados de examen de modelo monofásico | E77: Primer Trimestre | F77: 1 | G77: 2 | H77: Detalle | I77: Hoja1!A181:K184
A78: 2026 | B78: Enero-septiembre | C78: Mediciones Eléctricas | D78: Total, de Duplicados de examen de modelo trifásico | E78: Primer Trimestre | F78: 1 | G78: 3 | H78: Detalle | I78: Hoja1!A181:K184
A79: 2026 | B79: Enero-septiembre | C79: Mediciones Eléctricas | D79: Total, Calibraciones de medidores testigos | E79: Primer Trimestre | F79: 1 | G79: 1 | H79: Detalle | I79: Hoja1!A181:K184
A80: 2026 | B80: Enero-septiembre | C80: Mediciones Eléctricas | D80: Total, calibraciones otros fines | E80: Primer Trimestre | F80: 1 | G80: 0 | H80: Detalle | I80: Hoja1!A181:K184
A81: 2026 | B81: Enero-septiembre | C81: Mediciones Eléctricas | D81: Total, Inspección de lotes | E81: Primer Trimestre | F81: 1 | G81: 0 | H81: Detalle | I81: Hoja1!A181:K184
A82: 2026 | B82: Enero-septiembre | C82: Mediciones Eléctricas | D82: Calibración patrones | E82: Primer Trimestre | F82: 1 | G82: 2 | H82: Detalle | I82: Hoja1!A181:K184
A83: 2026 | B83: Enero-septiembre | C83: Mediciones Eléctricas | D83: Total, General de Servicios | E83: Primer Trimestre | F83: 1 | G83: 14 | H83: Total | I83: Hoja1!A181:K184
A84: 2026 | B84: Enero-septiembre | C84: Mediciones Eléctricas | D84: Total, de Examen de Modelo Energía Activa | E84: Segundo Trimestre | F84: 2 | G84: 0 | H84: Detalle | I84: Hoja1!A181:K184
A85: 2026 | B85: Enero-septiembre | C85: Mediciones Eléctricas | D85: Total, Examen de Modelo Activa/Reactiva monofásico | E85: Segundo Trimestre | F85: 2 | G85: 7 | H85: Detalle | I85: Hoja1!A181:K184
A86: 2026 | B86: Enero-septiembre | C86: Mediciones Eléctricas | D86: Total, Examen de Modelo Trifásica | E86: Segundo Trimestre | F86: 2 | G86: 4 | H86: Detalle | I86: Hoja1!A181:K184
A87: 2026 | B87: Enero-septiembre | C87: Mediciones Eléctricas | D87: Total, de Duplicados de examen de modelo monofásico | E87: Segundo Trimestre | F87: 2 | G87: 4 | H87: Detalle | I87: Hoja1!A181:K184
A88: 2026 | B88: Enero-septiembre | C88: Mediciones Eléctricas | D88: Total, de Duplicados de examen de modelo trifásico | E88: Segundo Trimestre | F88: 2 | H88: Detalle | I88: Hoja1!A181:K184
A89: 2026 | B89: Enero-septiembre | C89: Mediciones Eléctricas | D89: Total, Calibraciones de medidores testigos | E89: Segundo Trimestre | F89: 2 | G89: 1 | H89: Detalle | I89: Hoja1!A181:K184
A90: 2026 | B90: Enero-septiembre | C90: Mediciones Eléctricas | D90: Total, calibraciones otros fines | E90: Segundo Trimestre | F90: 2 | G90: 0 | H90: Detalle | I90: Hoja1!A181:K184
A91: 2026 | B91: Enero-septiembre | C91: Mediciones Eléctricas | D91: Total, Inspección de lotes | E91: Segundo Trimestre | F91: 2 | G91: 0 | H91: Detalle | I91: Hoja1!A181:K184
A92: 2026 | B92: Enero-septiembre | C92: Mediciones Eléctricas | D92: Calibración patrones | E92: Segundo Trimestre | F92: 2 | G92: 3 | H92: Detalle | I92: Hoja1!A181:K184
A93: 2026 | B93: Enero-septiembre | C93: Mediciones Eléctricas | D93: Total, General de Servicios | E93: Segundo Trimestre | F93: 2 | G93: 19 | H93: Total | I93: Hoja1!A181:K184
A94: 2026 | B94: Enero-septiembre | C94: Mediciones Eléctricas | D94: Total, de Examen de Modelo Energía Activa | E94: Tercer Trimestre | F94: 3 | G94: 1 | H94: Detalle | I94: Hoja1!A181:K184
A95: 2026 | B95: Enero-septiembre | C95: Mediciones Eléctricas | D95: Total, Examen de Modelo Activa/Reactiva monofásico | E95: Tercer Trimestre | F95: 3 | G95: 2 | H95: Detalle | I95: Hoja1!A181:K184
A96: 2026 | B96: Enero-septiembre | C96: Mediciones Eléctricas | D96: Total, Examen de Modelo Trifásica | E96: Tercer Trimestre | F96: 3 | G96: 13 | H96: Detalle | I96: Hoja1!A181:K184
A97: 2026 | B97: Enero-septiembre | C97: Mediciones Eléctricas | D97: Total, de Duplicados de examen de modelo monofásico | E97: Tercer Trimestre | F97: 3 | G97: 2 | H97: Detalle | I97: Hoja1!A181:K184
A98: 2026 | B98: Enero-septiembre | C98: Mediciones Eléctricas | D98: Total, de Duplicados de examen de modelo trifásico | E98: Tercer Trimestre | F98: 3 | G98: 3 | H98: Detalle | I98: Hoja1!A181:K184
A99: 2026 | B99: Enero-septiembre | C99: Mediciones Eléctricas | D99: Total, Calibraciones de medidores testigos | E99: Tercer Trimestre | F99: 3 | G99: 1 | H99: Detalle | I99: Hoja1!A181:K184
A100: 2026 | B100: Enero-septiembre | C100: Mediciones Eléctricas | D100: Total, calibraciones otros fines | E100: Tercer Trimestre | F100: 3 | G100: 5 | H100: Detalle | I100: Hoja1!A181:K184
...

Sheet Hoja1
A10: INFORME DE GESTIÓN
A22: Desarrollo del Informe
A24: Actividades del 2026
A26: Seguimiento a los objetivos del PEI y el POA
A28: No. | B28: Productos del PEI | C28: Indicador de Medición | D28: Meta 2026 | E28: Seguimiento
A29: 1 | B29: Fortalecimiento Institucional. | C29: Cantidad de Metrólogos formados con las competencias necesarias. | D29: 2 técnicos | E29: 75 % para dos técnicos
B30: (PEI Eje 1, Objetivo 1) | C30: (Trimestral)
C31: Números Informe de gestión trimestral elaborado y aprobado. | D31: 4 | E31: Se han emitido 3 de los 4 informes programados, equivalente al 100 % de la meta del trimestre y al 75 % de la meta anual.
C32: (Trimestral)
A33: 2 | B33: Proponer y Gestionar el desarrollo del Laboratorio Nacional Dimensional de Metrología. | C33: Cantidad de laboratorios propuestos. | D33: 1 Propuesta de laboratorio anual | E33: Se reintrodujo la propuesta del laboratorio dimensional para un 100 %
B34: (PEI Eje 2, Objetivo 2.1.1) | C34: (Trimestral)
A35: 3 | B35: Fortalecer la trazabilidad y mantenimiento de patrones nacionales de medición. | C35: Número de Gestiones la calibración de patrones nacionales | D35: 10 Gestiones de calibración | E35: Se han realizado un total de 10 solicitudes (4 Masa y Volumen, 2 Temperatura, 2 Mediciones Eléctricas, 2 Dimensional y Presión 3), equivalente al 100 % anual
B36: (PEI Eje 2, Objetivo 2.1.2) | C36: (Trimestral)
A37: 4 | B37: Fortalecer la trazabilidad de las Mediciones en la Industria. | C37: Cantidad de equipos de la industria que se recalibran. | D37: 100 | E37: 178 recalibraciones en el tercer trimestre y 489, para un 489 % anual.
B38: (PEI Eje 2, Objetivo 2.1.3) | C38: (Anual)
C39: Porcentaje de equipos de nuevos clientes calibrados por trimestre. | D39: 95% de servicios solicitados. | E39: 1
C40: (Trimestral)
C41: Porcentaje de Intercomparaciones Nacionales realizadas y reportadas por trimestre. | D41: 95% de servicios solicitados. | E41: 3/3, equivalente al 100%
C42: (Trimestral)
C43: Porcentaje de Consultas y asistencia técnica proporcionadas a las industrias por trimestre. | D43: 95% de servicios solicitados. | E43: 2/2, equivalente al 100%
C44: (Trimestral)
A45: 5 | B45: Fortalecer la trazabilidad de las mediciones del comercio. | C45: Cantidad de verificaciones de GLP | D45: 7500 | E45: 2 553 verificaciones en el tercer trimestre para un 136.16 % la meta trimestral, 6392 acumulado equivalentes al 85.23 % meta anual.
B46: (PEI Eje 2, Objetivo 2.1.4) | C46: (Anual)
C47: Cantidad de verificaciones de Balanzas | D47: 10000 | E47: 3 488 verificaciones en el tercer trimestre, equivalentes al 139.52 % de la meta trimestral. El acumulado enero-septiembre es de 10 088 verificaciones, equivalente al 100.88 % de la meta anual.
C48: (Anual)
C49: Cantidad de verificaciones de Combustibles Líquidos. | D49: 40000 | E49: 12 138 verificaciones en el tercer trimestre, equivalentes al 121.38 % de la meta trimestral. El acumulado enero-septiembre es de 36 881 verificaciones, equivalente al 92.20 % de la meta anual.
C50: (Anual)
C51: Porcentaje de medidores de energía eléctrica verificado. | D51: 95% de servicios solicitados. | E51: 1
C52: (Anual)
C53: Porcentaje de Servicio de aprobación de modelo de instrumentos de medición sujetos a control metrológico. | D53: 95% de servicios solicitados. | E53: 1
C54: (Anual)
C55: Porcentaje de inspecciones de lote de instrumentos de medición realizados. | D55: 95% de servicios solicitados. | E55: 1
C56: (Anual)
A57: 6 | B57: Gestionar la ampliación y el mantenimiento de las acreditaciones de la Dirección de Metrología ante organismos nacionales e internacionales. | C57: Número de alcances de DM ampliadas o mantenidas exitosamente ante organismos internacionales. | D57: 1 mantenimiento de los alcances actuales. | E57: Se mantuvo los alcances actuales, 100%, logrando cero no conformidad
B58: (PEI Eje 2, Objetivo 2.3.2) | C58: (Anual)
A59: 7 | B59: Establecer mecanismos de cooperación con fines de armonización técnica con ministerios y entes reguladores. (enfoque técnico regulatorio) | C59: Cantidad de gestiones realizadas para la participación del INDOCAL en mesas técnicas interinstitucionales | D59: 1 | E59: 1 Saf's,
B60: (PEI Eje 3, Objetivo 3.1.4) | C60: (Trimestral) | E60: 1 Intrant.,
E61: 1 Taller de partes interesadas ,equivalente a un 300%
A62: 8 | B62: Participar activamente en foros y comités técnicos regionales e internacionales sobre calidad, metrología y normalización. | C62: Cantidad de gestiones para participaciones realizadas. | D62: 1 | E62: Se ha participado virtualmente en la reunión del CARIMET, Qica y SIM , además de la participación en la reunión del Grupo de Presión en Panamá, para un 3 00%
B63: (PEI Eje 4, Objetivo 4.3.1) | C63: (Trimestral)
...

Sheet Chart Data
B1: Laboratorio Nacional de Masa y Volumen | C1: Laboratorio Nacional de Temperatura | D1: Laboratorio Nacional de Mediciones Eléctricas | E1: Laboratorio Nacional Dimensional y Presión | F1: Total, general
A2: Primer Trimestre | B2: 13 | C2: 0 | D2: 2 | E2: 0 | F2: 15
A3: Segundo Trimestre | B3: 6 | C3: 2 | D3: 3 | E3: 0 | F3: 11
A4: Tercer Trimestre | B4: 20 | C4: 0 | D4: 3 | E4: 0 | F4: 23
B7: Total, Metrología Legal SD-RN | C7: Total, LAB. De Peritaje Región Norte | D7: Total, LAB. De Tiempo y Frecuencia | E7: Total, LAB. De Masa y Volumen | F7: Total, LAB. De Mediciones Eléctricas | G7: Total, LAB. Nacional de Peritaje SD | H7: Total, LAB. Nacional Dimensional y Presión | I7: LAB. Nacional de Temperatura | J7: Lab. Físico Químico | K7: Total, General
A8: Primer Trimestre | B8: 17269 | C8: 2209 | D8: 6 | E8: 1309 | F8: 14 | G8: 4890 | H8: 6 | I8: 2 | J8: 0 | K8: 25705
A9: Segundo Trimestre | B9: 19037 | C9: 2316 | D9: 23 | E9: 345 | F9: 19 | G9: 6006 | H9: 3 | I9: 11 | J9: 0 | K9: 27760
A10: Tercer Trimestre | B10: 18817 | C10: 3058 | D10: 20 | E10: 728 | F10: 27 | G10: 4324 | H10: 0 | I10: 42 | J10: 23 | K10: 27039
B13: Total, de Calibraciones de Patrones de Volumen | C13: Total, de Calibraciones de Pesas | D13: Total, de Evaluaciones de Modelo de Balanzas | E13: Total, de Calibración de Balanzas | F13: Total, Ajustes de Balanzas | G13: Total, Verificación de Balanzas | H13: Total, Intercomparaciones | I13: Total, Duplicado de modelo de Balanzas | J13: Total, General de Servicios
A14: Primer Trimestre | B14: 15 | C14: 72 | D14: 20 | E14: 1 | F14: 1200 | G14: 0 | H14: 1 | I14: 0 | J14: 1309
A15: Segundo Trimestre | B15: 21 | C15: 308 | D15: 14 | E15: 1 | F15: 0 | G15: 0 | H15: 1 | I15: 0 | J15: 345
A16: Tercer Trimestre | B16: 29 | C16: 95 | D16: 21 | E16: 0 | F16: 580 | G16: 0 | H16: 1 | I16: 2 | J16: 728
B19: Total, de Examen de Modelo Energía Activa | C19: Total, Examen de Modelo Activa/Reactiva monofásico | D19: Total, Examen de Modelo Trifásica | E19: Total, de Duplicados de examen de modelo monofásico | F19: Total, de Duplicados de examen de modelo trifásico | G19: Total, Calibraciones de medidores testigos | H19: Total, calibraciones otros fines | I19: Total, Inspección de lotes | J19: Calibración patrones | K19: Total, General de Servicios
A20: Primer Trimestre | B20: 1 | C20: 0 | D20: 5 | E20: 2 | F20: 3 | G20: 1 | H20: 0 | I20: 0 | J20: 2 | K20: 14
A21: Segundo Trimestre | B21: 0 | C21: 7 | D21: 4 | E21: 4 | F21: 0 | G21: 1 | H21: 0 | I21: 0 | J21: 3 | K21: 19
A22: Tercer Trimestre | B22: 1 | C22: 2 | D22: 13 | E22: 2 | F22: 3 | G22: 1 | H22: 5 | I22: 0 | J22: 0 | K22: 27
B25: Total, Analizador de redes | C25: Total, Multímetro | D25: Total, Pinza Amperimétrica | E25: Total, Secuencímetro | F25: Total, Tensímetro | G25: Total, Calibración Piranómetro | H25: Total
A26: Primer Trimestre | B26: 0 | C26: 2 | D26: 1 | E26: 0 | F26: 0 | G26: 3 | H26: 6
A27: Segundo Trimestre | B27: 0 | C27: 0 | D27: 18 | E27: 3 | F27: 0 | G27: 2 | H27: 23
A28: Tercer Trimestre | B28: 1 | C28: 12 | D28: 6 | E28: 1 | F28: 0 | G28: 0 | H28: 20
B31: Total, calibración medidores de presión | C31: Total, Examen de modelo esfigmomanómetro | D31: Calibración de esfigmanómetro | E31: Verificación esfigmomanómetro | F31: Total
A32: Primer Trimestre | B32: 0 | C32: 0 | D32: 0 | E32: 6 | F32: 6
A33: Segundo Trimestre | B33: 0 | C33: 1 | D33: 0 | E33: 2 | F33: 3
A34: Tercer Trimestre | B34: 0 | C34: 0 | D34: 0 | E34: 0 | F34: 0
B37: Total, Verificación de Volumen Sede | C37: Total, Verificación de Balanzas Sede | D37: Total, de Verificación de Flujo Sede | E37: Constancia de Verificación | F37: Total, General de Servicios Sede
A38: Primer Trimestre | B38: 6521 | C38: 2435 | D38: 1075 | E38: 381 | F38: 10412
A39: Segundo Trimestre | B39: 9118 | C39: 2041 | D39: 1123 | E39: 225 | F39: 12507
A40: Tercer Trimestre | B40: 6651 | C40: 2067 | D40: 1834 | E40: 638 | F40: 11190
B43: Total, Verificación de Volumen Región Norte | C43: Total, Verificación de Balanzas Región Norte | D43: Total, de Verificación de Flujo Región Norte | E43: Total, Balanzas en estaciones de GLP Región Norte | F43: Total, General de Servicios Región Norte
A44: Primer Trimestre | B44: 4639 | C44: 1195 | D44: 858 | E44: 165 | F44: 6857
A45: Segundo Trimestre | B45: 4465 | C45: 1126 | D45: 783 | E45: 156 | F45: 6530
A46: Tercer Trimestre | B46: 5487 | C46: 1224 | D46: 719 | E46: 197 | F46: 7627
B49: Total, de Verificaciones administrativas de EDESUR con Anomalía | C49: Total, de Verificaciones administrativas de EDESUR sin Anomalía | D49: Total, de Verificaciones penales de EDESUR con Anomalía | E49: Total, de Verificaciones penales de EDESUR sin Anomalía | F49: Total, Verificaciones
A50: Primer Trimestre | B50: 2065 | C50: 675 | D50: 19 | E50: 4 | F50: 2763
A51: Segundo Trimestre | B51: 1929 | C51: 844 | D51: 25 | E51: 6 | F51: 2804
A52: Tercer Trimestre | B52: 986 | C52: 534 | D52: 48 | E52: 1 | F52: 1569
B55: Total, de Verificaciones administrativas de EDEESTE con Anomalía | C55: Total, de Verificaciones administrativas de EDEESTE sin Anomalía | D55: Total, de Verificaciones penales de EDEESTE con Anomalía | E55: Total, de Verificaciones penales de EDEESTE sin Anomalía | F55: Total, General
A56: Primer Trimestre | B56: 1271 | C56: 847 | D56: 5 | E56: 4 | F56: 2127
A57: Segundo Trimestre | B57: 1945 | C57: 1240 | D57: 7 | E57: 10 | F57: 3202
A58: Tercer Trimestre | B58: 1759 | C58: 980 | D58: 5 | E58: 11 | F58: 2755
...
